BEGIN:VCALENDAR
VERSION:2.0
PRODID:-//Fontana vin Vodole - ECPv6.15.20//NONSGML v1.0//EN
CALSCALE:GREGORIAN
METHOD:PUBLISH
X-WR-CALNAME:Fontana vin Vodole
X-ORIGINAL-URL:https://www.fontanavin.com
X-WR-CALDESC:Dogodki za Fontana vin Vodole
REFRESH-INTERVAL;VALUE=DURATION:PT1H
X-Robots-Tag:noindex
X-PUBLISHED-TTL:PT1H
BEGIN:VTIMEZONE
TZID:Europe/Ljubljana
BEGIN:DAYLIGHT
TZOFFSETFROM:+0100
TZOFFSETTO:+0200
TZNAME:CEST
DTSTART:20240331T010000
END:DAYLIGHT
BEGIN:STANDARD
TZOFFSETFROM:+0200
TZOFFSETTO:+0100
TZNAME:CET
DTSTART:20241027T010000
END:STANDARD
BEGIN:DAYLIGHT
TZOFFSETFROM:+0100
TZOFFSETTO:+0200
TZNAME:CEST
DTSTART:20250330T010000
END:DAYLIGHT
BEGIN:STANDARD
TZOFFSETFROM:+0200
TZOFFSETTO:+0100
TZNAME:CET
DTSTART:20251026T010000
END:STANDARD
BEGIN:DAYLIGHT
TZOFFSETFROM:+0100
TZOFFSETTO:+0200
TZNAME:CEST
DTSTART:20260329T010000
END:DAYLIGHT
BEGIN:STANDARD
TZOFFSETFROM:+0200
TZOFFSETTO:+0100
TZNAME:CET
DTSTART:20261025T010000
END:STANDARD
END:VTIMEZONE
BEGIN:VEVENT
DTSTART;TZID=Europe/Ljubljana:20250521T190000
DTEND;TZID=Europe/Ljubljana:20250521T220000
DTSTAMP:20260420T151513
CREATED:20250505T175457Z
LAST-MODIFIED:20250519T120051Z
UID:991656-1747854000-1747864800@www.fontanavin.com
SUMMARY:Jagode\, čokolada in penina
DESCRIPTION:Na dogodek se lahko prijavite tudi preko spodnjega obrazca\, vendar v tem primeru plačate polno ceno dogodka ob prihodu (39\,90€). 								\n				\n				\n						\n					\n			\n						\n				\n							\n			\n			\n			\n\n			\n			\n								\n												\n								Ime in priimek							\n														\n											\n								\n												\n								Epošta							\n														\n											\n								\n												\n								Telefon							\n														\n											\n								\n												\n								Število gostov							\n									\n						\n								\n												\n								Opombe (alergije ipd.))							\n										\n								\n					\n						\n																						Prijavi se!\n													\n					\n				\n			\n		\n						\n				\n					\n		\n					\n		\n					\n		\n					\n		\n				\n		 \nPripravi se na doživetje\, ki bo razvajalo vse tvoje čute.Na najbolj vinski terasi na Štajerskem te čaka pomladni večer\, poln okusov\, razgledov in sproščenega druženja. 🌄 \nKo se bo dan prevesil v večer\, bomo odprli penino\, servirali sveže jagode\, prelili čokolado in dodali tisto piko na i – razgled\, ki jemlje dih. \nTo ni zgolj degustacija – to je večer za vse\, ki cenite užitek\, lepoto narave in izbrane okuse. Ne glede na to\, ali pridete s prijatelji\, sodelavci ali v dvoje – pri nas vas čaka doživetje\, ki vas bo navdihnilo. \n\n🥂 Kaj te čaka?\n\n\n5 vrhunskih penečih vin lokalnih vinarjev\, vsak v svojem slogu – od elegantnih do igrivo sadnih \n\n\nJagode v različnih kombinacijah – s čokolado\, dodatki in nekaj skrivnostmi\, ki jih razkrijemo le v živo \n\n\nGostja večera: butična čokoladnica Passero\, ki bo razkrila svet kakava\, način pridelave in umetnost ujemanja s sadjem in vinom \n\n\nPijača dobrodošlice za začetek \n\n\nMožnost dodatne degustacije 6 izbranih mirnih vin \n\n\nGlasba v ozadju\, sproščeno vzdušje in pomlad\, ki se preliva v poletje \n\n\n  \n\n\n🍫 Posebna gostja večera: Čokoladnica PasseroZ nami bo priznana čokoladnica Passero\, ki ustvarja ročno izdelane čokoladne mojstrovine z ravnic Prekmurja. Spoznali boste različne vrste kakava\, skrivnosti pridelave in umetnost ujemanja čokolade s sadjem in penečimi vini.Njihove čokolade ne osvajajo le mednarodnih priznanj – osvajajo tudi srca. 💝 \n  \n\n\n🎟 Cena doživetja: Če kupite do 18.5.: 34\,90 €\, nato: 39\,90 €  na osebo(vključuje penine\, jagode\, čokolado\, pijačo dobrodošlice in čudovit ambient) \n⚠️ Število mest je omejeno!Dogodki\, kot je ta\, se hitro zapolnijo – prijavi se zdaj in si zagotovi prostor za večer\, ki ga ne boš pozabil/a. \n\n📸 Namig: Ne pozabi napolniti telefona – razgledi\, jagode in kozarci penine bodo naravnost kličejo po fotki. 😉 \nZa več informacij\, se obrnite na nas:\nTelefon: 031578912\nEmail sales@sonce.je \nhttps://www.fontanavin.com/wp-content/uploads/2025/05/Fontana-vin.mp4
URL:https://www.fontanavin.com/event-2/jagode-cokolada-in-penina/
LOCATION:Fontana vin Vodole\, Vodole 2\, Malečnik\, 2229
ATTACH;FMTTYPE=image/jpeg:https://www.fontanavin.com/wp-content/uploads/2025/05/jagode-scaled.jpg
END:VEVENT
END:VCALENDAR