BEGIN:VCALENDAR
VERSION:2.0
PRODID:-//Fontana vin Vodole - ECPv6.15.20//NONSGML v1.0//EN
CALSCALE:GREGORIAN
METHOD:PUBLISH
X-ORIGINAL-URL:https://www.fontanavin.com
X-WR-CALDESC:Dogodki za Fontana vin Vodole
REFRESH-INTERVAL;VALUE=DURATION:PT1H
X-Robots-Tag:noindex
X-PUBLISHED-TTL:PT1H
BEGIN:VTIMEZONE
TZID:Europe/Ljubljana
BEGIN:DAYLIGHT
TZOFFSETFROM:+0100
TZOFFSETTO:+0200
TZNAME:CEST
DTSTART:20240331T010000
END:DAYLIGHT
BEGIN:STANDARD
TZOFFSETFROM:+0200
TZOFFSETTO:+0100
TZNAME:CET
DTSTART:20241027T010000
END:STANDARD
BEGIN:DAYLIGHT
TZOFFSETFROM:+0100
TZOFFSETTO:+0200
TZNAME:CEST
DTSTART:20250330T010000
END:DAYLIGHT
BEGIN:STANDARD
TZOFFSETFROM:+0200
TZOFFSETTO:+0100
TZNAME:CET
DTSTART:20251026T010000
END:STANDARD
BEGIN:DAYLIGHT
TZOFFSETFROM:+0100
TZOFFSETTO:+0200
TZNAME:CEST
DTSTART:20260329T010000
END:DAYLIGHT
BEGIN:STANDARD
TZOFFSETFROM:+0200
TZOFFSETTO:+0100
TZNAME:CET
DTSTART:20261025T010000
END:STANDARD
END:VTIMEZONE
BEGIN:VEVENT
DTSTART;TZID=Europe/Ljubljana:20250627T190000
DTEND;TZID=Europe/Ljubljana:20250627T200000
DTSTAMP:20260422T125111
CREATED:20250618T094006Z
LAST-MODIFIED:20250619T102640Z
UID:991877-1751050800-1751054400@www.fontanavin.com
SUMMARY:Večer smeha na fontani - Monokomedija: STRIPTIZ (Matjaž Javšnik)
DESCRIPTION:  \nVečer\, ko bo smeh po Fontani! \nV petek\, 27. 6.\, vas ob 19 uri vabimo na nepozaben večer na Fontani vin Vodole\, kjer bomo na naši terasi gostili Matjaža Javšnika s svojo odmevno monokomedijo Striptiz. Tokrat se bo Matjaž razgalil – enako bo storil tudi z nami in z vso Slovenijo. \nOb naši izbrani vinski ponudbi in čudovitem razgledu\, ki ga ponuja Fontana vin\, vas čaka večer\, poln smeha  in iskrenih ogledal naše družbe. \nV predstavi Striptiz se Matjaž z značilno ostrino in humorjem sprehodi skozi slovenske posebnosti\, tako tiste\, ki nas delajo edinstvene\, kot tudi tiste\, ki bi jih raje pometli pod preprogo. Smeh nas bo popeljal mimo dvojine\, ljubezni do pločevine\, ki se sveti izpod naših garaž\, družinskih vezi\, športnih zmagoslavij\, javne uprave\, interesnih skupin\, gradnje kariere in seveda – politike\, naše večne bolečine. \nPa tudi na slovensko zavist ne bo pozabil – tisto lastnost\, ki nas postavlja v sam vrh svetovnih posebnežev. \nNe zamudite večera\, ko bo smeh odmeval po gričih\, na mizi bodo dobrote naše Fontane vin Vodole in povsod okrog bo resnica  – čeprav ovita v šalo – spregovorila naravnost v srce. \nMINISTRSTVO ZA ZDRAVJE IN HIGIENO TELESA TER DUHA PRIPOROČA OGLED PREDSTAVE ZA KREPITEV TREBUŠNIH MIŠIC\, RAZGIBANJE LEVE IN DESNE HEMISFERE IN PREPREČEVANJE ZAVISTI. OGLED PREDSTAVE JE DRUŽBENA ODGOVORNOST! \nZa dogodek je potrebno kupiti vstopnico!
URL:https://www.fontanavin.com/event-2/vecer-smeha-na-fontani-monokomedija-striptiz-matjaz-javsnik/
LOCATION:Fontana vin Vodole\, Vodole 2\, Malečnik\, 2229
ATTACH;FMTTYPE=image/png:https://www.fontanavin.com/wp-content/uploads/2025/06/FB-COVERS-EVENTS-3-scaled.png
END:VEVENT
END:VCALENDAR