BEGIN:VCALENDAR
VERSION:2.0
PRODID:-//Fontana vin Vodole - ECPv6.15.20//NONSGML v1.0//EN
CALSCALE:GREGORIAN
METHOD:PUBLISH
X-ORIGINAL-URL:https://www.fontanavin.com
X-WR-CALDESC:Dogodki za Fontana vin Vodole
REFRESH-INTERVAL;VALUE=DURATION:PT1H
X-Robots-Tag:noindex
X-PUBLISHED-TTL:PT1H
BEGIN:VTIMEZONE
TZID:Europe/Ljubljana
BEGIN:DAYLIGHT
TZOFFSETFROM:+0100
TZOFFSETTO:+0200
TZNAME:CEST
DTSTART:20240331T010000
END:DAYLIGHT
BEGIN:STANDARD
TZOFFSETFROM:+0200
TZOFFSETTO:+0100
TZNAME:CET
DTSTART:20241027T010000
END:STANDARD
BEGIN:DAYLIGHT
TZOFFSETFROM:+0100
TZOFFSETTO:+0200
TZNAME:CEST
DTSTART:20250330T010000
END:DAYLIGHT
BEGIN:STANDARD
TZOFFSETFROM:+0200
TZOFFSETTO:+0100
TZNAME:CET
DTSTART:20251026T010000
END:STANDARD
BEGIN:DAYLIGHT
TZOFFSETFROM:+0100
TZOFFSETTO:+0200
TZNAME:CEST
DTSTART:20260329T010000
END:DAYLIGHT
BEGIN:STANDARD
TZOFFSETFROM:+0200
TZOFFSETTO:+0100
TZNAME:CET
DTSTART:20261025T010000
END:STANDARD
END:VTIMEZONE
BEGIN:VEVENT
DTSTART;TZID=Europe/Ljubljana:20250711T110000
DTEND;TZID=Europe/Ljubljana:20250711T220000
DTSTAMP:20260422T122820
CREATED:20250701T085727Z
LAST-MODIFIED:20250704T220947Z
UID:991985-1752231600-1752271200@www.fontanavin.com
SUMMARY:Nočni zipline
DESCRIPTION:Čaka nas posebno nočno doživetje. Dalmatinski večer bomo obarvali tudi z nočnim ziplino\, ki bo ta dan obratoval od 11 – 22 ure in prav vsi boste lahko svojo izkušnjo nadgradili z edinstvenim čebeljim letom v temo. \nSe vidimo na dalmatinskem večeru na Fontani vin Vodole.
URL:https://www.fontanavin.com/event-2/nocni-zipline-2/
LOCATION:Fontana vin Vodole\, Vodole 2\, Malečnik\, 2229
ATTACH;FMTTYPE=image/png:https://www.fontanavin.com/wp-content/uploads/2025/07/nocni-zipline-scaled.png
END:VEVENT
BEGIN:VEVENT
DTSTART;TZID=Europe/Ljubljana:20250711T170000
DTEND;TZID=Europe/Ljubljana:20250711T220000
DTSTAMP:20260422T122820
CREATED:20250701T083820Z
LAST-MODIFIED:20250704T215652Z
UID:991979-1752253200-1752271200@www.fontanavin.com
SUMMARY:Good Wine Good Vibes - SLOVENSKO - DALMATINSKI VEČER
DESCRIPTION:Prihaja večer\, poln dalmatinske glasbe\, dobre kapljice in nepozabnih poletnih vibracij!🍷 \nDa lažje počakamo do morja 🌊 \nKaj te čaka:\n\n\nDalmatinska glasba – Glasbeno društvo Ciglenčani \n\nNočni ZIPLINE – spust po ziplinu do 22.00\n\nVrhunska vina z vinske fontane \n\n\nPita s sladoledom in sirne\, mesno sirne\, ali veganske dobrote iz naše kuhinje. \n\n\n   sončni zahod in dalmatinske melodije na odprti terasi. \n\n\n\nPlaža & Fun! Obleci se sproščeno\, poletno in z nasmehom – da se vidi\, da si na dopustu! \n Vstop je prost\, priporočamo rezervacijo miz na sales@sonce.je \nRezerviraj si datum in se nam pridruži na dalmatinsko obarvani poletni noči na najbolj vinski terasi na štajerskem.
URL:https://www.fontanavin.com/event-2/good-wine-good-vibes-dalmatinski-vecer/
LOCATION:Fontana vin Vodole\, Vodole 2\, Malečnik\, 2229
ATTACH;FMTTYPE=image/png:https://www.fontanavin.com/wp-content/uploads/2025/07/2-1-scaled.png
END:VEVENT
END:VCALENDAR