BEGIN:VCALENDAR
VERSION:2.0
PRODID:-//Fontana vin Vodole - ECPv6.15.20//NONSGML v1.0//EN
CALSCALE:GREGORIAN
METHOD:PUBLISH
X-ORIGINAL-URL:https://www.fontanavin.com
X-WR-CALDESC:Dogodki za Fontana vin Vodole
REFRESH-INTERVAL;VALUE=DURATION:PT1H
X-Robots-Tag:noindex
X-PUBLISHED-TTL:PT1H
BEGIN:VTIMEZONE
TZID:Europe/Ljubljana
BEGIN:DAYLIGHT
TZOFFSETFROM:+0100
TZOFFSETTO:+0200
TZNAME:CEST
DTSTART:20240331T010000
END:DAYLIGHT
BEGIN:STANDARD
TZOFFSETFROM:+0200
TZOFFSETTO:+0100
TZNAME:CET
DTSTART:20241027T010000
END:STANDARD
BEGIN:DAYLIGHT
TZOFFSETFROM:+0100
TZOFFSETTO:+0200
TZNAME:CEST
DTSTART:20250330T010000
END:DAYLIGHT
BEGIN:STANDARD
TZOFFSETFROM:+0200
TZOFFSETTO:+0100
TZNAME:CET
DTSTART:20251026T010000
END:STANDARD
BEGIN:DAYLIGHT
TZOFFSETFROM:+0100
TZOFFSETTO:+0200
TZNAME:CEST
DTSTART:20260329T010000
END:DAYLIGHT
BEGIN:STANDARD
TZOFFSETFROM:+0200
TZOFFSETTO:+0100
TZNAME:CET
DTSTART:20261025T010000
END:STANDARD
END:VTIMEZONE
BEGIN:VEVENT
DTSTART;TZID=Europe/Ljubljana:20250821T170000
DTEND;TZID=Europe/Ljubljana:20250821T200000
DTSTAMP:20260420T110403
CREATED:20250701T073735Z
LAST-MODIFIED:20250729T093016Z
UID:991969-1755795600-1755806400@www.fontanavin.com
SUMMARY:Ftrgani četrtek z vrhunskimi sendviči - krača
DESCRIPTION:Vsak drugi in zadnji četrtek v mesecu.\nČetrtek je mali petek – idealen čas za sprostitev\, dobro hrano in kozarec vina s prijatelji!\nNa najbolj vinski terasi na Štajerskem vas čaka pravi kulinarični užitek: ftrgani sendvič z kračo\, pripravljen iz lokalnih sestavin\, počasi kuhan in hrustljavo zapečen.\nVsak četrtek nov okus – govedina\, piščanec\, krača\, ribe ali gobe – vedno domače in izjemno.\n Ob naročilu sendviča vas čaka še brezplačna ftrgana sladica v objemu hrušk in mete.\n V sodih pa – kot vedno – vrhunska vina naših lokalnih vinarjev.\n Cena sendviča: 10\,90 €\nPridite\, naj se vaš četrtek ftrga! 
URL:https://www.fontanavin.com/event-2/ftrgani-cetrtek-z-vrhunskimi-sendvici-ribe-4/
LOCATION:Fontana vin Vodole\, Vodole 2\, Malečnik\, 2229
ATTACH;FMTTYPE=image/jpeg:https://www.fontanavin.com/wp-content/uploads/2025/06/ftrgan-cetrtek-scaled.jpg
END:VEVENT
BEGIN:VEVENT
DTSTART;TZID=Europe/Ljubljana:20250821T170000
DTEND;TZID=Europe/Ljubljana:20250821T200000
DTSTAMP:20260420T110403
CREATED:20250809T143024Z
LAST-MODIFIED:20250809T201333Z
UID:993197-1755795600-1755806400@www.fontanavin.com
SUMMARY:Vinski večer na Fontani vin – Vino turizem Protner
DESCRIPTION:Vabimo na prav poseben večer na Fontani vin. Z nami bo Denis Protner\, ki bo z veseljem predstavil zgodbe Turistične kmetije Protner in nam ponudil za okusiti čudovita vina in penine iz njihove ponudbe.\nProtner Penina\, Sivi pinot\, Suvignon\, Renski rizling.. vse to so vina s sadnimi in cvetnimi aromami ter osvežujočo kislino\, ki jih skrbno in z ljubeznijo ponujajo v njihovi kleti.\n\nNekaj od njih je pa tudi v naši redni ponudbi na fontani.\n\nPridite na kozarec\, pogovor in prijetno popoldne v družbi vina!
URL:https://www.fontanavin.com/event-2/vinski-vecer-na-fontani-vin-vino-turizem-protner/
LOCATION:Fontana vin Vodole\, Vodole 2\, Malečnik\, 2229
ATTACH;FMTTYPE=image/png:https://www.fontanavin.com/wp-content/uploads/2025/08/protner-naslovna.png
END:VEVENT
END:VCALENDAR