BEGIN:VCALENDAR
VERSION:2.0
PRODID:-//Fontana vin Vodole - ECPv6.15.20//NONSGML v1.0//EN
CALSCALE:GREGORIAN
METHOD:PUBLISH
X-ORIGINAL-URL:https://www.fontanavin.com
X-WR-CALDESC:Dogodki za Fontana vin Vodole
REFRESH-INTERVAL;VALUE=DURATION:PT1H
X-Robots-Tag:noindex
X-PUBLISHED-TTL:PT1H
BEGIN:VTIMEZONE
TZID:Europe/Ljubljana
BEGIN:DAYLIGHT
TZOFFSETFROM:+0100
TZOFFSETTO:+0200
TZNAME:CEST
DTSTART:20240331T010000
END:DAYLIGHT
BEGIN:STANDARD
TZOFFSETFROM:+0200
TZOFFSETTO:+0100
TZNAME:CET
DTSTART:20241027T010000
END:STANDARD
BEGIN:DAYLIGHT
TZOFFSETFROM:+0100
TZOFFSETTO:+0200
TZNAME:CEST
DTSTART:20250330T010000
END:DAYLIGHT
BEGIN:STANDARD
TZOFFSETFROM:+0200
TZOFFSETTO:+0100
TZNAME:CET
DTSTART:20251026T010000
END:STANDARD
BEGIN:DAYLIGHT
TZOFFSETFROM:+0100
TZOFFSETTO:+0200
TZNAME:CEST
DTSTART:20260329T010000
END:DAYLIGHT
BEGIN:STANDARD
TZOFFSETFROM:+0200
TZOFFSETTO:+0100
TZNAME:CET
DTSTART:20261025T010000
END:STANDARD
END:VTIMEZONE
BEGIN:VEVENT
DTSTART;TZID=Europe/Ljubljana:20251008T180000
DTEND;TZID=Europe/Ljubljana:20251008T210000
DTSTAMP:20260420T071847
CREATED:20251003T044922Z
LAST-MODIFIED:20251003T193337Z
UID:993814-1759946400-1759957200@www.fontanavin.com
SUMMARY:BRAZISLKI STEAK - KULINARIČNI VEČER Z Marcosom Tavaresom
DESCRIPTION:Gre za unikaten kulinarični dogodek\, namenjen raziskovanju okusov stejka in vina. \nČe obožuješ meso in degustacijo vrhunskih vin – na vrh vsega pa si še iz Maribora ali okolice – ga preprosto ne smeš zamuditi! \n  \n\n\nVključuje: 5-hodni steak meni\, redke premium Brazilske govedine – raziskovanje okusov in načinov priprave \n Druženje z Mariborsko nogometno legendo Marcos Tavaresom – ki bo izžrebanemu gostu podaril darilo presenečenja \n Ogled priprave jedi v živi kuhinji (in to le 5 minut iz centra Maribora) \n Dobrodošlica z gratis welcome drinkom (ali ledenim čajem za otroke) \n NEOMEJENA vinska spremljava – degustacija 8-ih odličnih vin iz Fontane vin Vodole \n\n Dogodek je omejen na 60 oseb! Prijave so obvezne – hitro rezerviraj svoje mesto!\n\nČaka nas res edinstven dogodek\, katerega ne smeš zamuditi!\n\nZato se hitro prijavi TUKAJ!
URL:https://www.fontanavin.com/event-2/brazislki-steak-kulinaricni-vecer-z-marcosom-tavaresom/
LOCATION:Fontana vin Vodole\, Vodole 2\, Malečnik\, 2229
ATTACH;FMTTYPE=image/jpeg:https://www.fontanavin.com/wp-content/uploads/2025/10/brazilski-vecer.jpg
END:VEVENT
END:VCALENDAR