BEGIN:VCALENDAR
VERSION:2.0
PRODID:-//Fontana vin Vodole - ECPv6.15.20//NONSGML v1.0//EN
CALSCALE:GREGORIAN
METHOD:PUBLISH
X-ORIGINAL-URL:https://www.fontanavin.com
X-WR-CALDESC:Dogodki za Fontana vin Vodole
REFRESH-INTERVAL;VALUE=DURATION:PT1H
X-Robots-Tag:noindex
X-PUBLISHED-TTL:PT1H
BEGIN:VTIMEZONE
TZID:Europe/Ljubljana
BEGIN:DAYLIGHT
TZOFFSETFROM:+0100
TZOFFSETTO:+0200
TZNAME:CEST
DTSTART:20240331T010000
END:DAYLIGHT
BEGIN:STANDARD
TZOFFSETFROM:+0200
TZOFFSETTO:+0100
TZNAME:CET
DTSTART:20241027T010000
END:STANDARD
BEGIN:DAYLIGHT
TZOFFSETFROM:+0100
TZOFFSETTO:+0200
TZNAME:CEST
DTSTART:20250330T010000
END:DAYLIGHT
BEGIN:STANDARD
TZOFFSETFROM:+0200
TZOFFSETTO:+0100
TZNAME:CET
DTSTART:20251026T010000
END:STANDARD
BEGIN:DAYLIGHT
TZOFFSETFROM:+0100
TZOFFSETTO:+0200
TZNAME:CEST
DTSTART:20260329T010000
END:DAYLIGHT
BEGIN:STANDARD
TZOFFSETFROM:+0200
TZOFFSETTO:+0100
TZNAME:CET
DTSTART:20261025T010000
END:STANDARD
END:VTIMEZONE
BEGIN:VEVENT
DTSTART;TZID=Europe/Ljubljana:20250809T140000
DTEND;TZID=Europe/Ljubljana:20250809T220000
DTSTAMP:20260420T041933
CREATED:20250701T072948Z
LAST-MODIFIED:20250730T212238Z
UID:991953-1754748000-1754776800@www.fontanavin.com
SUMMARY:Sobota s konopljo
DESCRIPTION:V soboto\, 16.avgusta\, bo terasa Fontane vin Vodole odeta v zeleno!\n\n\nTokrat bo v ospredju konoplja – rastlina\, zaradi katere je nastalo celotno posestvo.\nBogdan Mak vam bo predstavil njen pomen za okolje\, njeno vsestransko uporabnost in izdelke\, ki jih pridelujejo in predelujejo na Posestvo SONČNI RAJ\n\n\n Degustirali boste lahko:\n– čaje\, sirupe\, CBD kapljice\, mazila\, olja\n– posebne napitke in prvo konopljino vino na svetu \n\n\nDegustacije izdelkov so brezplačne!\n\n\nZ vami bodo tudi vedno bolj priljubljeni 420swing koktajli\, ki bodo pospremili dan v ritmih prijetnega swinga.\n\n\n Zvečer sledi kulinarična demonstracija v živo – Bogdan Mak bo namreč pripravil konopljine testenine v sirovi omaki s semeni in tartufi\, ki jih boste lahko poskusili po promocijski ceni 5\,90 € / porcija.\n\n\n Pridite na najbolj zeleno soboto sezone – raziskujte\, okušajte in uživajte z nami na Vodolah!\n\nPriporočamo rezervacije miz na sales@sonce.je
URL:https://www.fontanavin.com/event-2/sobota-s-konopljo-3/
LOCATION:Fontana vin Vodole\, Vodole 2\, Malečnik\, 2229
ATTACH;FMTTYPE=image/png:https://www.fontanavin.com/wp-content/uploads/2025/07/9-AVGUST.png
END:VEVENT
BEGIN:VEVENT
DTSTART;TZID=Europe/Ljubljana:20250614T140000
DTEND;TZID=Europe/Ljubljana:20250614T220000
DTSTAMP:20260420T041933
CREATED:20250609T123209Z
LAST-MODIFIED:20250609T123209Z
UID:991817-1749909600-1749938400@www.fontanavin.com
SUMMARY:Sobota s konopljo
DESCRIPTION:V soboto\, 14. junija\, bo terasa Fontane vin Vodole odeta v zeleno!\n\n\nTokrat bo v ospredju konoplja – rastlina\, zaradi katere je nastalo celotno posestvo.\nBogdan Mak vam bo predstavil njen pomen za okolje\, njeno vsestransko uporabnost in izdelke\, ki jih pridelujejo in predelujejo na Posestvo SONČNI RAJ\n\n\n Degustirali boste lahko:\n– čaje\, sirupe\, CBD kapljice\, mazila\, olja\n– posebne napitke in prvo konopljino vino na svetu \n\n\nDegustacije izdelkov so brezplačne!\n\n\nZ vami bodo tudi vedno bolj priljubljeni 420swing koktajli\, ki bodo pospremili dan v ritmih prijetnega swinga.\n\n\n Zvečer sledi kulinarična demonstracija v živo – Bogdan Mak bo namreč pripravil konopljine testenine v sirovi omaki s semeni in tartufi\, ki jih boste lahko poskusili po promocijski ceni 5\,90 € / porcija.\n\n\n Pridite na najbolj zeleno soboto sezone – raziskujte\, okušajte in uživajte z nami na Vodolah!
URL:https://www.fontanavin.com/event-2/sobota-s-konopljo-2/
LOCATION:Fontana vin Vodole\, Vodole 2\, Malečnik\, 2229
ATTACH;FMTTYPE=image/png:https://www.fontanavin.com/wp-content/uploads/2025/06/KONOPLJA-scaled.png
END:VEVENT
BEGIN:VEVENT
DTSTART;TZID=Europe/Ljubljana:20250528T190000
DTEND;TZID=Europe/Ljubljana:20250528T220000
DTSTAMP:20260420T041933
CREATED:20250505T160719Z
LAST-MODIFIED:20250526T084145Z
UID:991651-1748458800-1748469600@www.fontanavin.com
SUMMARY:Vinske zgodbe: STEAK in vino
DESCRIPTION:Kateri steak je najboljši? In katero vino mu najbolj pristaja? \nČe radi uživate v vrhunski hrani in vas zanima\, kako ustvariti popoln par med mesom in vinom\, potem tega večera preprosto ne smete zamuditi. \n\nKaj vas čaka?\nPridružite se nam na razkošnem večeru\, kjer boste odkrivali: \n\n\nkako izbrati pravi kos mesa za vaš okus \n\n\nkako doseči popolno zapečenost in sočnost steaka \n\n\nkatere vinske sorte se najbolje ujemajo z različnimi kosi govedine \n\n\nDogodek bo potekal v sproščenem vzdušju\, z peko v živo\, strokovno predstavitvijo vin in obilico priložnosti za okušanje\, učenje in uživanje. \n\nPosebni gostje večera: Posestvo Bajer\nTokrat se bomo razvajali z WANGUS mesom – vrhunsko križanico Wagyu in Angus goveda\, ki združuje najboljše iz obeh svetov. Gre za eno najdragocenejših vrst mesa\, znano po svoji izjemni marmoriranosti in okusu. \nPoleg steakov boste poskusili tudi ekskluziven Wangus burger\, ki postaja prava kulinarična senzacija. \n\nVinska spremljava\nNaši sommelierji bodo predstavili 8 izbranih vzorcev vina\, ki jih boste okušali skupaj s petimi različnimi vrstami steakov. Naučili se boste\, kako prepoznati arome\, strukturo in kako ustvariti harmonijo med kozarcem in krožnikom. \n\nCena doživetja vključuje:\n\n\n🥃 Edinstven cocktail dobrodošlice \n\n\n🥩 5 vzorcev steakov z manjšimi prilogami \n\n\n🍷 8 vzorcev vrhunskih vin \n\n\n🔥 Peka v živo + predstavitev mesa in vin \n\n\n💧 Ustekleničena voda \n\n\n👨‍🍳 Voden program s kuharskimi mojstri in sommelierji \n\n\n\nCena: 69\,90 € na osebo // ZA NAKUP PREKO SPLETA: 59\,90 EUR! \nPOZOR: Število mest je omejeno!Zaradi ekskluzivne narave dogodka prijave zbiramo do zapolnitve mest. Prijavite se čim prej in si zagotovite svoj prostor med gurmansko elito. \nKako smo se imeli lansko leto:
URL:https://www.fontanavin.com/event-2/vinske-zgodbe-steak-in-vino/
LOCATION:Fontana vin Vodole\, Vodole 2\, Malečnik\, 2229
ATTACH;FMTTYPE=image/jpeg:https://www.fontanavin.com/wp-content/uploads/2025/05/steak-in-vino-1-scaled.jpg
END:VEVENT
BEGIN:VEVENT
DTSTART;TZID=Europe/Ljubljana:20250517T190000
DTEND;TZID=Europe/Ljubljana:20250517T220000
DTSTAMP:20260420T041933
CREATED:20250506T072817Z
LAST-MODIFIED:20250507T095313Z
UID:991660-1747508400-1747519200@www.fontanavin.com
SUMMARY:Sobota s konopljo
DESCRIPTION:V soboto\, 17. maja\, bo terasa Fontane vin Vodole odeta v zeleno!\n\n\nTokrat bo v ospredju konoplja – rastlina\, zaradi katere je nastalo celotno posestvo.\nBogdan Mak vam bo predstavil njen pomen za okolje\, njeno vsestransko uporabnost in izdelke\, ki jih pridelujejo in predelujejo na Posestvo SONČNI RAJ\n\n\n Degustirali boste lahko:\n– čaje\, sirupe\, CBD kapljice\, mazila\, olja\n– posebne napitke in prvo konopljino vino na svetu \n\n\nDegustacije izdelkov so brezplačne!\n\n\nZ vami bodo tudi vedno bolj priljubljeni 420swing koktajli\, ki bodo pospremili dan v ritmih prijetnega swinga.\n\n\n Zvečer sledi kulinarična demonstracija v živo – Bogdan Mak bo namreč pripravil konopljine testenine v sirovi omaki s semeni in tartufi\, ki jih boste lahko poskusili po promocijski ceni 5\,90 € / porcija.\n\n\n Pridite na najbolj zeleno soboto sezone – raziskujte\, okušajte in uživajte z nami na Vodolah!
URL:https://www.fontanavin.com/event-2/sobota-s-konopljo/
LOCATION:Fontana vin Vodole\, Vodole 2\, Malečnik\, 2229
ATTACH;FMTTYPE=image/jpeg:https://www.fontanavin.com/wp-content/uploads/2025/05/sobota-s-konopljo-scaled.jpg
END:VEVENT
END:VCALENDAR