BEGIN:VCALENDAR
VERSION:2.0
PRODID:-//Fontana vin Vodole - ECPv6.15.20//NONSGML v1.0//EN
CALSCALE:GREGORIAN
METHOD:PUBLISH
X-WR-CALNAME:Fontana vin Vodole
X-ORIGINAL-URL:https://www.fontanavin.com
X-WR-CALDESC:Dogodki za Fontana vin Vodole
REFRESH-INTERVAL;VALUE=DURATION:PT1H
X-Robots-Tag:noindex
X-PUBLISHED-TTL:PT1H
BEGIN:VTIMEZONE
TZID:Europe/Ljubljana
BEGIN:DAYLIGHT
TZOFFSETFROM:+0100
TZOFFSETTO:+0200
TZNAME:CEST
DTSTART:20240331T010000
END:DAYLIGHT
BEGIN:STANDARD
TZOFFSETFROM:+0200
TZOFFSETTO:+0100
TZNAME:CET
DTSTART:20241027T010000
END:STANDARD
BEGIN:DAYLIGHT
TZOFFSETFROM:+0100
TZOFFSETTO:+0200
TZNAME:CEST
DTSTART:20250330T010000
END:DAYLIGHT
BEGIN:STANDARD
TZOFFSETFROM:+0200
TZOFFSETTO:+0100
TZNAME:CET
DTSTART:20251026T010000
END:STANDARD
BEGIN:DAYLIGHT
TZOFFSETFROM:+0100
TZOFFSETTO:+0200
TZNAME:CEST
DTSTART:20260329T010000
END:DAYLIGHT
BEGIN:STANDARD
TZOFFSETFROM:+0200
TZOFFSETTO:+0100
TZNAME:CET
DTSTART:20261025T010000
END:STANDARD
END:VTIMEZONE
BEGIN:VEVENT
DTSTART;TZID=Europe/Ljubljana:20250614T140000
DTEND;TZID=Europe/Ljubljana:20250614T220000
DTSTAMP:20260419T232725
CREATED:20250609T123209Z
LAST-MODIFIED:20250609T123209Z
UID:991817-1749909600-1749938400@www.fontanavin.com
SUMMARY:Sobota s konopljo
DESCRIPTION:V soboto\, 14. junija\, bo terasa Fontane vin Vodole odeta v zeleno!\n\n\nTokrat bo v ospredju konoplja – rastlina\, zaradi katere je nastalo celotno posestvo.\nBogdan Mak vam bo predstavil njen pomen za okolje\, njeno vsestransko uporabnost in izdelke\, ki jih pridelujejo in predelujejo na Posestvo SONČNI RAJ\n\n\n Degustirali boste lahko:\n– čaje\, sirupe\, CBD kapljice\, mazila\, olja\n– posebne napitke in prvo konopljino vino na svetu \n\n\nDegustacije izdelkov so brezplačne!\n\n\nZ vami bodo tudi vedno bolj priljubljeni 420swing koktajli\, ki bodo pospremili dan v ritmih prijetnega swinga.\n\n\n Zvečer sledi kulinarična demonstracija v živo – Bogdan Mak bo namreč pripravil konopljine testenine v sirovi omaki s semeni in tartufi\, ki jih boste lahko poskusili po promocijski ceni 5\,90 € / porcija.\n\n\n Pridite na najbolj zeleno soboto sezone – raziskujte\, okušajte in uživajte z nami na Vodolah!
URL:https://www.fontanavin.com/event-2/sobota-s-konopljo-2/
LOCATION:Fontana vin Vodole\, Vodole 2\, Malečnik\, 2229
ATTACH;FMTTYPE=image/png:https://www.fontanavin.com/wp-content/uploads/2025/06/KONOPLJA-scaled.png
END:VEVENT
BEGIN:VEVENT
DTSTART;TZID=Europe/Ljubljana:20250612T173000
DTEND;TZID=Europe/Ljubljana:20250612T200000
DTSTAMP:20260419T232725
CREATED:20250610T093036Z
LAST-MODIFIED:20250610T093036Z
UID:991829-1749749400-1749758400@www.fontanavin.com
SUMMARY:Ženko druženje - Medenični koktajl
DESCRIPTION:𝐃𝐫𝐚𝐠𝐞 𝐝𝐚𝐦𝐞\,\n𝐬𝐫𝐜̌𝐧𝐨 𝐯𝐚𝐛𝐥𝐣𝐞𝐧𝐞 𝐧𝐚 𝐌𝐄𝐃𝐄𝐍𝐈𝐂̌𝐍𝐈 𝐊𝐎𝐊𝐓𝐀𝐉𝐋! 𝐍𝐚 𝐤𝐚𝐣?!? 𝐉𝐚 𝐩𝐫𝐚𝐯 𝐬𝐭𝐞 𝐬𝐥𝐢𝐬̌𝐚𝐥𝐞\, 𝐧𝐚 𝐌𝐄𝐃𝐄𝐍𝐈𝐂̌𝐍𝐈 𝐊𝐎𝐊𝐓𝐀𝐉𝐋. \nBliža se poletje in počitnice\, ko se vsi razkropimo na svoj konec. S Petro sva si zaželeli\, da bi se pred tem še enkrat srečale in si podarile čas zase. Medenični koktajl bo posvečen vam in vašemu dobremu počutju\, dvigu samopodobe ter naše pretočnosti.\nSva Jasmina Krajnc\, ustanoviteljica centra Perineum Sanum in Petra Špes Mak iz Sončnega raja in pred poletjem sva si zaželeli\, da bi se lahko ženske malo podružile in podelile dobro energijo\, tako da sva pripravili prav lušten program:\n 𝐏𝐫𝐢𝐯𝐨𝐬̌𝐜̌𝐢𝐥𝐞 𝐬𝐢 𝐛𝐨𝐦𝐨 𝐝𝐧𝐞𝐯𝐧𝐨 𝐝𝐨𝐳𝐨 𝐤𝐨𝐥𝐚𝐠𝐞𝐧𝐚\, 𝐤𝐢 𝐩𝐫𝐢𝐩𝐨𝐦𝐨𝐫𝐞 𝐤 𝐬𝐢𝐣𝐨𝐜̌𝐢𝐦 𝐥𝐚𝐬𝐞𝐦\, 𝐤𝐨𝐳̌𝐢\, 𝐥𝐞𝐩𝐬̌𝐢𝐦 𝐧𝐨𝐡𝐭𝐨𝐦 𝐢𝐧 𝐛𝐥𝐚𝐠𝐨𝐝𝐞𝐣𝐧𝐨 𝐯𝐩𝐥𝐢𝐯𝐚 𝐧𝐚 𝐧𝐚𝐬̌ 𝐦𝐢𝐬̌𝐢𝐜̌𝐧𝐢 𝐬𝐢𝐬𝐭𝐞𝐦. Razvajala nas bo Calivita.\n 𝐏𝐫𝐢𝐯𝐨𝐬̌𝐜̌𝐢𝐥𝐞 𝐬𝐢 𝐛𝐨𝐦𝐨 𝐝𝐞𝐥𝐚𝐯𝐧𝐢𝐜𝐨 𝐕𝐢𝐭𝐚𝐥𝐧𝐨 𝐦𝐞𝐝𝐞𝐧𝐢𝐜̌𝐧𝐨 𝐝𝐧𝐨\, kjer bomo spoznale ta skrit\, ampak še kako pomemben del našega telesa.Na delavnici bomo skupaj raziskovale\, kako krepiti in ohranjati zdravje medeničnega dna skozi različna življenjska obdobja.\n𝗩𝘀𝗲𝗯𝗶𝗻𝗮 𝗱𝗲𝗹𝗮𝘃𝗻𝗶𝗰𝗲:kako naš način življenja vpliva na naše medenično dnokakšne so posledice šibkih ali napetih mišic medeničnega dnapovezava med dihanjem in mišicami medeničnega dnakako medenica vpliva na našo držonasveti za lajšanje bolečin v hrbtenici in medeniciNa delavnici boste pridobile več znanja o svojem telesu ter se naučile zavestnega gibanja in dihanja. Prav tako boste pridobile ogromno napotkov in nasvetov\, katere mora vedeti vsaka ženska.\n 𝐏𝐫𝐢𝐯𝐨𝐬̌𝐜̌𝐢𝐥𝐞 𝐬𝐢 𝐛𝐨𝐦𝐨 𝐝𝐞𝐥𝐚𝐯𝐧𝐢𝐜𝐨 𝐕𝐒𝐓𝐎𝐏𝐈 𝐌𝐀𝐆𝐍𝐄𝐓𝐈𝐂̌𝐍𝐀 𝐕 𝐏𝐎𝐋𝐄𝐓𝐉𝐄\, kjer bomo govorile o tem\, kako poleti ohranjati svojo notranjo svežino\, kako se prizemljiti\, ohlajati in usmerjati ogenj v ustvarjalnost\, namesto v izgorelost. Pogledale bomo ključne točke telesa\, s katerimi si lahko pomagamo\, se učile pomirjajočih dihalnih tehnik\, nežnega dotika in terapevtskih položajev\, ter izvedle ritual ohlajanja in vračanja vase. Z nami bo Doroteja iz @studiodoroteja\n\n 𝐒𝐫𝐞𝐜̌𝐚𝐧𝐣𝐞 𝐛𝐨𝐦𝐨 𝐳𝐚𝐤𝐥𝐣𝐮𝐜̌𝐢𝐥𝐞 𝐳 𝐝𝐫𝐮𝐳̌𝐞𝐧𝐣𝐞𝐦 𝐢𝐧 𝐦𝐫𝐞𝐳̌𝐞𝐧𝐣𝐞𝐦 𝐨𝐛 𝐝𝐨𝐛𝐫𝐢 𝐡𝐫𝐚𝐧𝐢 𝐢𝐧 𝐩𝐢𝐣𝐚𝐜̌𝐢. 𝐍𝐚𝐬̌𝐞 𝐛𝐫𝐛𝐨𝐧𝐜̌𝐢𝐜𝐞 𝐛𝐨 𝐫𝐚𝐳𝐯𝐚𝐣𝐚𝐥 Posestvo Sončni raj in Fontana vin – Vodole. Med drugim bomo poskusile njihovo slavno penino 420.\nVelikokrat nama marsikatera ženska reče\, da pogreša ženska druženja. Kjer smo lahko preprosto ženske\, damo na pavzo vlogo mame\, partnerice\, zaposlene. Prebudimo žensko energijo\, podelimo izkušnje\, se počutimo manj same in si izmenjamo dobre energije.\n𝐒𝐫𝐜̌𝐧𝐨 𝐯𝐚𝐛𝐥𝐣𝐞𝐧𝐞! 𝐏𝐫𝐢𝐣𝐚𝐯𝐞 𝐳𝐚𝐳̌𝐞𝐥𝐣𝐞𝐧𝐞\, 𝐬𝐚𝐣 𝐣𝐞 𝐬̌𝐭𝐞𝐯𝐢𝐥𝐨 𝐦𝐞𝐬𝐭 𝐨𝐦𝐞𝐣𝐞𝐧𝐨.\nPrijave na: https://forms.gle/o4jswo4yiB4vrDtu7 Prispevek 35 € se poravna na dan dogodka\nVeseliva se našega druženja\,Petra in Jasmina
URL:https://www.fontanavin.com/event-2/zenko-druzenje-medenicni-koktajl/
LOCATION:Fontana vin Vodole\, Vodole 2\, Malečnik\, 2229
ATTACH;FMTTYPE=image/png:https://www.fontanavin.com/wp-content/uploads/2025/06/FB-COVERS-EVENTS-6-scaled.png
END:VEVENT
BEGIN:VEVENT
DTSTART;TZID=Europe/Ljubljana:20250612T160000
DTEND;TZID=Europe/Ljubljana:20250612T200000
DTSTAMP:20260419T232725
CREATED:20250609T123804Z
LAST-MODIFIED:20250609T123804Z
UID:991820-1749744000-1749758400@www.fontanavin.com
SUMMARY:Ftrgani četrtek z vrhunskimi sendviči - piščanec
DESCRIPTION:Vsak drugi in zadnji četrtek v mesecu.\nČetrtek je mali petek – idealen čas za sprostitev\, dobro hrano in kozarec vina s prijatelji!\nNa najbolj vinski terasi na Štajerskem vas čaka pravi kulinarični užitek: ftrgani sendvič z govedino\, pripravljen iz lokalnih sestavin\, počasi kuhan in hrustljavo zapečen.\nVsak četrtek nov okus – govedina\, piščanec\, krača\, ribe ali gobe – vedno domače in izjemno.\n Ob naročilu sendviča vas čaka še brezplačna ftrgana sladica v objemu hrušk in mete.\n V sodih pa – kot vedno – vrhunska vina naših lokalnih vinarjev.\n Cena sendviča: 10\,90 €\nPridite\, naj se vaš četrtek ftrga! \n***\n12. junij: piščanec26. junij: ribe
URL:https://www.fontanavin.com/event-2/ftrgani-cetrtek-z-vrhunskimi-sendvici-piscanec/
LOCATION:Fontana vin Vodole\, Vodole 2\, Malečnik\, 2229
ATTACH;FMTTYPE=image/jpeg:https://www.fontanavin.com/wp-content/uploads/2025/06/ftrgan-cetrtek-scaled.jpg
END:VEVENT
BEGIN:VEVENT
DTSTART;TZID=Europe/Ljubljana:20250611T170000
DTEND;TZID=Europe/Ljubljana:20250611T200000
DTSTAMP:20260419T232725
CREATED:20250609T154021Z
LAST-MODIFIED:20250611T154708Z
UID:991823-1749661200-1749672000@www.fontanavin.com
SUMMARY:Vinski večer na Fontani vin – Predstavitev Hiše vin Mak
DESCRIPTION:Vabimo na prav poseben večer na Fontani vin. Z nami bo Andrej Mak iz Hiše vin Mak\, ki bo z veseljem predstavil svojo vinsko zgodbo.\nPrve trte so bile na njihovi kmetiji zasajene pred 80 leti in tako je vinogradništo tradicija\, ki jo skrbno gradijo že generacije.\nNa naši fontani točimo njihov odličen rumeni muškat\, ta večer pa boste lahko degustirali še ostala vina iz njihove hiše.\nPridite na kozarec\, pogovor in prijetno popoldne v družbi vina!
URL:https://www.fontanavin.com/event-2/vinski-vecer-na-fontani-vin-predstavitev-hise-vina-leber-2/
LOCATION:Fontana vin Vodole\, Vodole 2\, Malečnik\, 2229
ATTACH;FMTTYPE=image/png:https://www.fontanavin.com/wp-content/uploads/2025/06/FB-COVERS-EVENTS-4-scaled.png
END:VEVENT
BEGIN:VEVENT
DTSTART;TZID=Europe/Ljubljana:20250529T170000
DTEND;TZID=Europe/Ljubljana:20250529T200000
DTSTAMP:20260419T232725
CREATED:20250506T073337Z
LAST-MODIFIED:20250506T073337Z
UID:991663-1748538000-1748548800@www.fontanavin.com
SUMMARY:Ftrgani četrtek z vrhunskimi sendviči - krača in gobe
DESCRIPTION:Vsak drugi in zadnji četrtek v mesecu.\nČetrtek je mali petek – idealen čas za sprostitev\, dobro hrano in kozarec vina s prijatelji!\nNa najbolj vinski terasi na Štajerskem vas čaka pravi kulinarični užitek: ftrgani sendvič z  kračo in gobami\, pripravljen iz lokalnih sestavin\, počasi kuhan in hrustljavo zapečen.\nVsak četrtek nov okus – govedina\, piščanec\, krača\, ribe ali gobe – vedno domače in izjemno.\nOb naročilu sendviča vas čaka še brezplačna ftrgana sladica v objemu hrušk in mete.\nV sodih pa – kot vedno – vrhunska vina naših lokalnih vinarjev.\nCena sendviča: 10\,90 €\nPridite\, naj se vaš četrtek ftrga! \n***\n29. maj: krača in gobe12. junij: piščanec26. junij: ribe
URL:https://www.fontanavin.com/event-2/ftrgani-cetrtek-z-vrhunskimi-sendvici-kraca-in-gobe/
LOCATION:Fontana vin Vodole\, Vodole 2\, Malečnik\, 2229
ATTACH;FMTTYPE=image/jpeg:https://www.fontanavin.com/wp-content/uploads/2025/05/ftrgan-cetrtek-scaled.jpg
END:VEVENT
BEGIN:VEVENT
DTSTART;TZID=Europe/Ljubljana:20250528T190000
DTEND;TZID=Europe/Ljubljana:20250528T220000
DTSTAMP:20260419T232725
CREATED:20250505T160719Z
LAST-MODIFIED:20250526T084145Z
UID:991651-1748458800-1748469600@www.fontanavin.com
SUMMARY:Vinske zgodbe: STEAK in vino
DESCRIPTION:Kateri steak je najboljši? In katero vino mu najbolj pristaja? \nČe radi uživate v vrhunski hrani in vas zanima\, kako ustvariti popoln par med mesom in vinom\, potem tega večera preprosto ne smete zamuditi. \n\nKaj vas čaka?\nPridružite se nam na razkošnem večeru\, kjer boste odkrivali: \n\n\nkako izbrati pravi kos mesa za vaš okus \n\n\nkako doseči popolno zapečenost in sočnost steaka \n\n\nkatere vinske sorte se najbolje ujemajo z različnimi kosi govedine \n\n\nDogodek bo potekal v sproščenem vzdušju\, z peko v živo\, strokovno predstavitvijo vin in obilico priložnosti za okušanje\, učenje in uživanje. \n\nPosebni gostje večera: Posestvo Bajer\nTokrat se bomo razvajali z WANGUS mesom – vrhunsko križanico Wagyu in Angus goveda\, ki združuje najboljše iz obeh svetov. Gre za eno najdragocenejših vrst mesa\, znano po svoji izjemni marmoriranosti in okusu. \nPoleg steakov boste poskusili tudi ekskluziven Wangus burger\, ki postaja prava kulinarična senzacija. \n\nVinska spremljava\nNaši sommelierji bodo predstavili 8 izbranih vzorcev vina\, ki jih boste okušali skupaj s petimi različnimi vrstami steakov. Naučili se boste\, kako prepoznati arome\, strukturo in kako ustvariti harmonijo med kozarcem in krožnikom. \n\nCena doživetja vključuje:\n\n\n🥃 Edinstven cocktail dobrodošlice \n\n\n🥩 5 vzorcev steakov z manjšimi prilogami \n\n\n🍷 8 vzorcev vrhunskih vin \n\n\n🔥 Peka v živo + predstavitev mesa in vin \n\n\n💧 Ustekleničena voda \n\n\n👨‍🍳 Voden program s kuharskimi mojstri in sommelierji \n\n\n\nCena: 69\,90 € na osebo // ZA NAKUP PREKO SPLETA: 59\,90 EUR! \nPOZOR: Število mest je omejeno!Zaradi ekskluzivne narave dogodka prijave zbiramo do zapolnitve mest. Prijavite se čim prej in si zagotovite svoj prostor med gurmansko elito. \nKako smo se imeli lansko leto:
URL:https://www.fontanavin.com/event-2/vinske-zgodbe-steak-in-vino/
LOCATION:Fontana vin Vodole\, Vodole 2\, Malečnik\, 2229
ATTACH;FMTTYPE=image/jpeg:https://www.fontanavin.com/wp-content/uploads/2025/05/steak-in-vino-1-scaled.jpg
END:VEVENT
BEGIN:VEVENT
DTSTART;TZID=Europe/Ljubljana:20250521T190000
DTEND;TZID=Europe/Ljubljana:20250521T220000
DTSTAMP:20260419T232725
CREATED:20250505T175457Z
LAST-MODIFIED:20250519T120051Z
UID:991656-1747854000-1747864800@www.fontanavin.com
SUMMARY:Jagode\, čokolada in penina
DESCRIPTION:Na dogodek se lahko prijavite tudi preko spodnjega obrazca\, vendar v tem primeru plačate polno ceno dogodka ob prihodu (39\,90€). 								\n				\n				\n						\n					\n			\n						\n				\n							\n			\n			\n			\n\n			\n			\n								\n												\n								Ime in priimek							\n														\n											\n								\n												\n								Epošta							\n														\n											\n								\n												\n								Telefon							\n														\n											\n								\n												\n								Število gostov							\n									\n						\n								\n												\n								Opombe (alergije ipd.))							\n										\n								\n					\n						\n																						Prijavi se!\n													\n					\n				\n			\n		\n						\n				\n					\n		\n					\n		\n					\n		\n					\n		\n				\n		 \nPripravi se na doživetje\, ki bo razvajalo vse tvoje čute.Na najbolj vinski terasi na Štajerskem te čaka pomladni večer\, poln okusov\, razgledov in sproščenega druženja. 🌄 \nKo se bo dan prevesil v večer\, bomo odprli penino\, servirali sveže jagode\, prelili čokolado in dodali tisto piko na i – razgled\, ki jemlje dih. \nTo ni zgolj degustacija – to je večer za vse\, ki cenite užitek\, lepoto narave in izbrane okuse. Ne glede na to\, ali pridete s prijatelji\, sodelavci ali v dvoje – pri nas vas čaka doživetje\, ki vas bo navdihnilo. \n\n🥂 Kaj te čaka?\n\n\n5 vrhunskih penečih vin lokalnih vinarjev\, vsak v svojem slogu – od elegantnih do igrivo sadnih \n\n\nJagode v različnih kombinacijah – s čokolado\, dodatki in nekaj skrivnostmi\, ki jih razkrijemo le v živo \n\n\nGostja večera: butična čokoladnica Passero\, ki bo razkrila svet kakava\, način pridelave in umetnost ujemanja s sadjem in vinom \n\n\nPijača dobrodošlice za začetek \n\n\nMožnost dodatne degustacije 6 izbranih mirnih vin \n\n\nGlasba v ozadju\, sproščeno vzdušje in pomlad\, ki se preliva v poletje \n\n\n  \n\n\n🍫 Posebna gostja večera: Čokoladnica PasseroZ nami bo priznana čokoladnica Passero\, ki ustvarja ročno izdelane čokoladne mojstrovine z ravnic Prekmurja. Spoznali boste različne vrste kakava\, skrivnosti pridelave in umetnost ujemanja čokolade s sadjem in penečimi vini.Njihove čokolade ne osvajajo le mednarodnih priznanj – osvajajo tudi srca. 💝 \n  \n\n\n🎟 Cena doživetja: Če kupite do 18.5.: 34\,90 €\, nato: 39\,90 €  na osebo(vključuje penine\, jagode\, čokolado\, pijačo dobrodošlice in čudovit ambient) \n⚠️ Število mest je omejeno!Dogodki\, kot je ta\, se hitro zapolnijo – prijavi se zdaj in si zagotovi prostor za večer\, ki ga ne boš pozabil/a. \n\n📸 Namig: Ne pozabi napolniti telefona – razgledi\, jagode in kozarci penine bodo naravnost kličejo po fotki. 😉 \nZa več informacij\, se obrnite na nas:\nTelefon: 031578912\nEmail sales@sonce.je \nhttps://www.fontanavin.com/wp-content/uploads/2025/05/Fontana-vin.mp4
URL:https://www.fontanavin.com/event-2/jagode-cokolada-in-penina/
LOCATION:Fontana vin Vodole\, Vodole 2\, Malečnik\, 2229
ATTACH;FMTTYPE=image/jpeg:https://www.fontanavin.com/wp-content/uploads/2025/05/jagode-scaled.jpg
END:VEVENT
BEGIN:VEVENT
DTSTART;TZID=Europe/Ljubljana:20250517T190000
DTEND;TZID=Europe/Ljubljana:20250517T220000
DTSTAMP:20260419T232725
CREATED:20250506T072817Z
LAST-MODIFIED:20250507T095313Z
UID:991660-1747508400-1747519200@www.fontanavin.com
SUMMARY:Sobota s konopljo
DESCRIPTION:V soboto\, 17. maja\, bo terasa Fontane vin Vodole odeta v zeleno!\n\n\nTokrat bo v ospredju konoplja – rastlina\, zaradi katere je nastalo celotno posestvo.\nBogdan Mak vam bo predstavil njen pomen za okolje\, njeno vsestransko uporabnost in izdelke\, ki jih pridelujejo in predelujejo na Posestvo SONČNI RAJ\n\n\n Degustirali boste lahko:\n– čaje\, sirupe\, CBD kapljice\, mazila\, olja\n– posebne napitke in prvo konopljino vino na svetu \n\n\nDegustacije izdelkov so brezplačne!\n\n\nZ vami bodo tudi vedno bolj priljubljeni 420swing koktajli\, ki bodo pospremili dan v ritmih prijetnega swinga.\n\n\n Zvečer sledi kulinarična demonstracija v živo – Bogdan Mak bo namreč pripravil konopljine testenine v sirovi omaki s semeni in tartufi\, ki jih boste lahko poskusili po promocijski ceni 5\,90 € / porcija.\n\n\n Pridite na najbolj zeleno soboto sezone – raziskujte\, okušajte in uživajte z nami na Vodolah!
URL:https://www.fontanavin.com/event-2/sobota-s-konopljo/
LOCATION:Fontana vin Vodole\, Vodole 2\, Malečnik\, 2229
ATTACH;FMTTYPE=image/jpeg:https://www.fontanavin.com/wp-content/uploads/2025/05/sobota-s-konopljo-scaled.jpg
END:VEVENT
BEGIN:VEVENT
DTSTART;TZID=Europe/Ljubljana:20250515T170000
DTEND;TZID=Europe/Ljubljana:20250515T200000
DTSTAMP:20260419T232725
CREATED:20250505T151110Z
LAST-MODIFIED:20250507T122519Z
UID:991645-1747328400-1747339200@www.fontanavin.com
SUMMARY:Vinski večer na Fontani vin – Predstavitev Hiše vina Leber
DESCRIPTION:Vabimo na prav poseben večer na Fontani vin. Z nami bo Aljaž Leber iz Hiše vina Leber\, ki bo z veseljem predstavil svojo vinsko zgodbo.\nNa fontani teče njihov izvrsten Renski rizling\, tokrat pa bomo imeli priložnost poskusiti še druga njihova vina in prisluhniti njihovim zgodbam.\nPridite na kozarec\, pogovor in prijetno popoldne v družbi vina!
URL:https://www.fontanavin.com/event-2/vinski-vecer-na-fontani-vin-predstavitev-hise-vina-leber/
LOCATION:Fontana vin Vodole\, Vodole 2\, Malečnik\, 2229
ATTACH;FMTTYPE=image/jpeg:https://www.fontanavin.com/wp-content/uploads/2025/05/Vinaleber-scaled.jpg
END:VEVENT
BEGIN:VEVENT
DTSTART;TZID=Europe/Ljubljana:20250515T160000
DTEND;TZID=Europe/Ljubljana:20250515T200000
DTSTAMP:20260419T232725
CREATED:20250505T154234Z
LAST-MODIFIED:20250505T154234Z
UID:991648-1747324800-1747339200@www.fontanavin.com
SUMMARY:Ftrgani četrtek z vrhunskimi sendviči - govedina
DESCRIPTION:Vsak drugi in zadnji četrtek v mesecu.\nČetrtek je mali petek – idealen čas za sprostitev\, dobro hrano in kozarec vina s prijatelji!\nNa najbolj vinski terasi na Štajerskem vas čaka pravi kulinarični užitek: ftrgani sendvič z govedino\, pripravljen iz lokalnih sestavin\, počasi kuhan in hrustljavo zapečen.\nVsak četrtek nov okus – govedina\, piščanec\, krača\, ribe ali gobe – vedno domače in izjemno.\n Ob naročilu sendviča vas čaka še brezplačna ftrgana sladica v objemu hrušk in mete.\n V sodih pa – kot vedno – vrhunska vina naših lokalnih vinarjev.\n Cena sendviča: 10\,90 €\nPridite\, naj se vaš četrtek ftrga! \n***\n15. maj: govedina29. maj: krača in gobe12. junij: piščanec26. junij: ribe
URL:https://www.fontanavin.com/event-2/ftrgani-cetrtek-z-vrhunskimi-sendvici-govedina/
LOCATION:Fontana vin Vodole\, Vodole 2\, Malečnik\, 2229
ATTACH;FMTTYPE=image/jpeg:https://www.fontanavin.com/wp-content/uploads/2025/05/ftrgan-cetrtek-scaled.jpg
END:VEVENT
BEGIN:VEVENT
DTSTART;TZID=Europe/Ljubljana:20250514T190000
DTEND;TZID=Europe/Ljubljana:20250514T220000
DTSTAMP:20260419T232725
CREATED:20250503T090637Z
LAST-MODIFIED:20250512T084910Z
UID:991630-1747249200-1747260000@www.fontanavin.com
SUMMARY:Parmezani & vino
DESCRIPTION:V sredo 14. maja ob 19.00 bo cheesy 🧀 na Fontani vin. 😋 \nMislite\, da veste kaj je parmezan? Poznate razliko med Grano Padano in Parmigano Reggianom? \nSvet Parmigiana Reggiana je zelo raznolik. Italijani ga imenujejo kralj sirov\, katerih zgodovina sega v 11 stoletje. Parmezani se razlikuje med seboj po kvaliteti\, kraju pridelave in pašnikih na katerih se pasejo krave. \nVsi vzorci so nagrajeni z zlatimi medaljami iz WCA (World Cheese Awards). Dva vzorca se celo ponašata z dvojno zlato medaljo za kvaliteto in spadata med kronske dragulje v svetu parmezana. \nZa popolno zadovoljstvo sledi še degustacija vrhunskih vzorcev balzamičnega kisa (Aceto Balsamico)\, ki so starani od 4 leta pa vse tja do 12 let. \nDogodek je omejen na 50 oseb! \nZato si kar se da hitro zagotovite svoje prosto mesto na povezavi: \nUroš uredi povezave do ponedeljka je potrdil. \nCena degustacije: 39\,900 eur. \nOBVEZNE PRIJAVE! \nVključuje: pijačo dobrodošlice\, degustacijo osmih vrhunskih vin\, šest različnih vrst vrhunskih parmezanov\, tri vrste staranega balzamičnega kisa\, voden program. \nSe vidimo!
URL:https://www.fontanavin.com/event-2/parmezani-vino/
LOCATION:Fontana vin Vodole\, Vodole 2\, Malečnik\, 2229
ATTACH;FMTTYPE=image/jpeg:https://www.fontanavin.com/wp-content/uploads/2025/05/permezan-scaled.jpg
END:VEVENT
BEGIN:VEVENT
DTSTART;TZID=Europe/Ljubljana:20250501T110000
DTEND;TZID=Europe/Ljubljana:20250504T220000
DTSTAMP:20260419T232725
CREATED:20250427T144134Z
LAST-MODIFIED:20250427T153212Z
UID:991552-1746097200-1746396000@www.fontanavin.com
SUMMARY:PRVOMAJSKI PIKNIK NA FONTANI VIN 🍷👨‍👩‍👧‍👦
DESCRIPTION:1. MAJ – PRVOMAJSKI PIKNIK NA FONTANI VIN \n\n\nPrvi maj preživite z nami na Vodolah – v naravi\, ob dobri hrani\, pijači in z veliko zabave za otroke!\n\n\n Kdaj?\nČetrtek\, 1. maj 2025\n Fontana se odpre ob 11:00\n Odojek bo na voljo od 12:00 naprej – rezervacije obvezne na 031 578 912 ali sales@sonce.je\n\n\n Za otroke:\n– Napihljiva igrala\n– Poslikava obraza \n– Kokice \n– Čebelji let – Zipline Adventure\n\n\n In za še več adrenalina – ZIPLINE!\n\n\n Vemo\, da so odrasli dan prej na kresovanjih… Zato naj imajo otroci pravi praznični dan pri nas – s hrano\, igro in naravo!\n\n\n Od 2. do 4. maja pa vas čaka redna ponudba s fontano vin in napihljivimi igrali – da bo zabava trajala več dni!\n\n\nPridite na Vodole – kjer praznik postane doživetje! \n\n\nVeč informacij: https://fb.me/e/3idOcIH8M\n\n\n#FontanaVin #PrvomajskiPiknik #NaVodolah #OdojekInVino #ZabavaZaVsoDružino
URL:https://www.fontanavin.com/event-2/prvomajski-piknik-na-fontani-vin/
LOCATION:Fontana vin Vodole\, Vodole 2\, Malečnik\, 2229
ATTACH;FMTTYPE=image/jpeg:https://www.fontanavin.com/wp-content/uploads/2025/04/491959834_1227678209252220_1907004648764996126_n-scaled.jpg
END:VEVENT
END:VCALENDAR