BEGIN:VCALENDAR
VERSION:2.0
PRODID:-//Fontana vin Vodole - ECPv6.15.20//NONSGML v1.0//EN
CALSCALE:GREGORIAN
METHOD:PUBLISH
X-WR-CALNAME:Fontana vin Vodole
X-ORIGINAL-URL:https://www.fontanavin.com
X-WR-CALDESC:Dogodki za Fontana vin Vodole
REFRESH-INTERVAL;VALUE=DURATION:PT1H
X-Robots-Tag:noindex
X-PUBLISHED-TTL:PT1H
BEGIN:VTIMEZONE
TZID:Europe/Ljubljana
BEGIN:DAYLIGHT
TZOFFSETFROM:+0100
TZOFFSETTO:+0200
TZNAME:CEST
DTSTART:20240331T010000
END:DAYLIGHT
BEGIN:STANDARD
TZOFFSETFROM:+0200
TZOFFSETTO:+0100
TZNAME:CET
DTSTART:20241027T010000
END:STANDARD
BEGIN:DAYLIGHT
TZOFFSETFROM:+0100
TZOFFSETTO:+0200
TZNAME:CEST
DTSTART:20250330T010000
END:DAYLIGHT
BEGIN:STANDARD
TZOFFSETFROM:+0200
TZOFFSETTO:+0100
TZNAME:CET
DTSTART:20251026T010000
END:STANDARD
BEGIN:DAYLIGHT
TZOFFSETFROM:+0100
TZOFFSETTO:+0200
TZNAME:CEST
DTSTART:20260329T010000
END:DAYLIGHT
BEGIN:STANDARD
TZOFFSETFROM:+0200
TZOFFSETTO:+0100
TZNAME:CET
DTSTART:20261025T010000
END:STANDARD
BEGIN:DAYLIGHT
TZOFFSETFROM:+0100
TZOFFSETTO:+0200
TZNAME:CEST
DTSTART:20270328T010000
END:DAYLIGHT
BEGIN:STANDARD
TZOFFSETFROM:+0200
TZOFFSETTO:+0100
TZNAME:CET
DTSTART:20271031T010000
END:STANDARD
END:VTIMEZONE
BEGIN:VEVENT
DTSTART;TZID=Europe/Ljubljana:20250723T190000
DTEND;TZID=Europe/Ljubljana:20250723T220000
DTSTAMP:20260421T062021
CREATED:20250717T111617Z
LAST-MODIFIED:20250720T154906Z
UID:993053-1753297200-1753308000@www.fontanavin.com
SUMMARY:SUŠI&PENINA - večer z Ano Ranc
DESCRIPTION:5-hodni suši meni + NEOMEJENA spremljava penine & vina\n+ živa kuhinja z Ano Ranc & welcome drink!\n  \n\n\nČe suši zate ne predstavlja le navadnega kosila\, ampak ga dojemaš kot užitek okusov… \n… hkrati pa iščeš zares edinstveno izkušnjo\, z unikatnimi okusi ter najbolj svežimi sestavinami… \n… in živo kuhinjo z vrhunsko\, svetovno znano suši chefinjo\, kot je Ana Ranc… \nPotem si danes ob pravem času na pravem mestu! \nSuši&Penina večer je premium kulinarični dogodek\, namenjen raziskovanju okusov Japonske kuhinje. \nZate bomo namreč pripravili: \n\n\n\n\n\n 5-hodni avtentični japonski suši meni\, v katerem raziskuješ edinstvene okuse suši kulinarike\n Mojstrska priprava sušija v živi kuhinji (in to sredi neokrnjene narave v Malečniku)\n Dobrodošlica z gratis welcome drinkom (ali ledenim čajem za otroke)\n NEOMEJENA spremljava penine & vina – degustacija 8-ih odličnih vin in penin iz Fontane vin Vodole\n\n\n\n\n\nČe se ti to sliši kot popoln kulinarični večer\, klikni na gumb spodaj in rezerviraj svoje mesto na dogodku: \nREZERVIRAJ SI SVOJO MIZO TUKAJ
URL:https://www.fontanavin.com/event-2/susipenina-vecer-z-ano-ranc/
LOCATION:Fontana vin Vodole\, Vodole 2\, Malečnik\, 2229
END:VEVENT
BEGIN:VEVENT
DTSTART;TZID=Europe/Ljubljana:20250727T110000
DTEND;TZID=Europe/Ljubljana:20250727T200000
DTSTAMP:20260421T062021
CREATED:20250717T112036Z
LAST-MODIFIED:20250720T154644Z
UID:993055-1753614000-1753646400@www.fontanavin.com
SUMMARY:PRIJAVI SE NA "POSTAVLJANJE KLOPOTCA" & PREJMI ZIPLINE VOŽNJO
DESCRIPTION:Postavljanje klopotca: ritual\, ki je zakoreninjen v Slovensko tradicijo!\n\n\n\n\n\n\n\n\n\nGre za star vinarski dogodek\, ki so ga naši predniki izvajali že pred nastankom republike Slovenije. \nKlopotec je lesen pripomoček\, ki z vrtenjem proizvaja značilen ropotajoč zvok. \nNjegova osnovna naloga je bila odganjanje ptic iz vinogradov\, predvsem škorcev\, ki so radi kljuvali grozdje v času dozorevanja. \nA sčasoma je postal več kot le strašilo – postal je simbol vinogradništva\, zorenja grozdja in prihajajoče trgatve. \nPostavljanje klopotca pa je danes lokalni dogodek\, poln zabave\, smeha in druženja. \nČe želiš biti del te tradicije tudi ti (in si jo enkrat ogledati v živo)\, potem tega ne smeš zamuditi… \nNaberi svoje najbližje na kup in se nam pridruži v nedeljo\, 27. julija\, od 11ih dalje. \nPoskrbeli bomo za: \n\nProst vstop\, kjer bo na voljo tudi polno domače hrane & lokalna vina\nPostavljanje klopotca skupaj z lokalnimi vinarji\, ob živi glasbi in zabavnem vzdušju\nBrezplačno zipline vožnjo\, tistim\, ki oddajo svojo prijavo na tej spletni strani\n\n\n\n\n\nČe se ti to sliši kot super popestritev vikenda v naravi\, potem klikni na gumb spodaj in oddaj svojo prijavo na dogodek… \n… ter hkrati prevzemi svoj kuponček za brezplačno vožnjo na najdaljšem dvosmernem zipline-u v Sloveniji. \n\nPRIJAVI SE TUKAJ
URL:https://www.fontanavin.com/event-2/prijavi-se-na-postavljanje-klopotca-prejmi-zipline-voznjo/
LOCATION:Fontana vin Vodole\, Vodole 2\, Malečnik\, 2229
ATTACH;FMTTYPE=image/png:https://www.fontanavin.com/wp-content/uploads/2025/07/klopotec-2.png
END:VEVENT
BEGIN:VEVENT
DTSTART;TZID=Europe/Ljubljana:20250809T140000
DTEND;TZID=Europe/Ljubljana:20250809T220000
DTSTAMP:20260421T062021
CREATED:20250701T072948Z
LAST-MODIFIED:20250730T212238Z
UID:991953-1754748000-1754776800@www.fontanavin.com
SUMMARY:Sobota s konopljo
DESCRIPTION:V soboto\, 16.avgusta\, bo terasa Fontane vin Vodole odeta v zeleno!\n\n\nTokrat bo v ospredju konoplja – rastlina\, zaradi katere je nastalo celotno posestvo.\nBogdan Mak vam bo predstavil njen pomen za okolje\, njeno vsestransko uporabnost in izdelke\, ki jih pridelujejo in predelujejo na Posestvo SONČNI RAJ\n\n\n Degustirali boste lahko:\n– čaje\, sirupe\, CBD kapljice\, mazila\, olja\n– posebne napitke in prvo konopljino vino na svetu \n\n\nDegustacije izdelkov so brezplačne!\n\n\nZ vami bodo tudi vedno bolj priljubljeni 420swing koktajli\, ki bodo pospremili dan v ritmih prijetnega swinga.\n\n\n Zvečer sledi kulinarična demonstracija v živo – Bogdan Mak bo namreč pripravil konopljine testenine v sirovi omaki s semeni in tartufi\, ki jih boste lahko poskusili po promocijski ceni 5\,90 € / porcija.\n\n\n Pridite na najbolj zeleno soboto sezone – raziskujte\, okušajte in uživajte z nami na Vodolah!\n\nPriporočamo rezervacije miz na sales@sonce.je
URL:https://www.fontanavin.com/event-2/sobota-s-konopljo-3/
LOCATION:Fontana vin Vodole\, Vodole 2\, Malečnik\, 2229
ATTACH;FMTTYPE=image/png:https://www.fontanavin.com/wp-content/uploads/2025/07/9-AVGUST.png
END:VEVENT
BEGIN:VEVENT
DTSTART;TZID=Europe/Ljubljana:20250820T190000
DTEND;TZID=Europe/Ljubljana:20250820T220000
DTSTAMP:20260421T062021
CREATED:20250701T073258Z
LAST-MODIFIED:20250818T112309Z
UID:991955-1755716400-1755727200@www.fontanavin.com
SUMMARY:Parmezani & vino
DESCRIPTION:V sredo 20. avgusta ob 19.00 bo cheesy 🧀 na Fontani vin. 😋 \nMislite\, da veste kaj je parmezan? Poznate razliko med Grano Padano in Parmigano Reggianom? \nSvet Parmigiana Reggiana je zelo raznolik. Italijani ga imenujejo kralj sirov\, katerih zgodovina sega v 11 stoletje. Parmezani se razlikuje med seboj po kvaliteti\, kraju pridelave in pašnikih na katerih se pasejo krave. \nVsi vzorci so nagrajeni z zlatimi medaljami iz WCA (World Cheese Awards). Dva vzorca se celo ponašata z dvojno zlato medaljo za kvaliteto in spadata med kronske dragulje v svetu parmezana. \nZa popolno zadovoljstvo sledi še degustacija vrhunskih vzorcev balzamičnega kisa (Aceto Balsamico)\, ki so starani od 4 leta pa vse tja do 12 let. \nDogodek je omejen na 40 oseb! \nZato si kar se da hitro zagotovite svoje prosto mesto na povezavi: \nCena večernega dogoka: 39\,900 eur. \nOBVEZNE PRIJAVE TUKAJ!  \nVključuje: pijačo dobrodošlice\, degustacijo osmih vrhunskih vin\, šest različnih vrst vrhunskih parmezanov\, tri vrste staranega balzamičnega kisa\, voden program. \nSe vidimo!
URL:https://www.fontanavin.com/event-2/parmezani-vino-4/
LOCATION:Fontana vin Vodole\, Vodole 2\, Malečnik\, 2229
ATTACH;FMTTYPE=image/png:https://www.fontanavin.com/wp-content/uploads/2025/07/parmezani-scaled.png
END:VEVENT
BEGIN:VEVENT
DTSTART;TZID=Europe/Ljubljana:20250821T170000
DTEND;TZID=Europe/Ljubljana:20250821T200000
DTSTAMP:20260421T062021
CREATED:20250701T073735Z
LAST-MODIFIED:20250729T093016Z
UID:991969-1755795600-1755806400@www.fontanavin.com
SUMMARY:Ftrgani četrtek z vrhunskimi sendviči - krača
DESCRIPTION:Vsak drugi in zadnji četrtek v mesecu.\nČetrtek je mali petek – idealen čas za sprostitev\, dobro hrano in kozarec vina s prijatelji!\nNa najbolj vinski terasi na Štajerskem vas čaka pravi kulinarični užitek: ftrgani sendvič z kračo\, pripravljen iz lokalnih sestavin\, počasi kuhan in hrustljavo zapečen.\nVsak četrtek nov okus – govedina\, piščanec\, krača\, ribe ali gobe – vedno domače in izjemno.\n Ob naročilu sendviča vas čaka še brezplačna ftrgana sladica v objemu hrušk in mete.\n V sodih pa – kot vedno – vrhunska vina naših lokalnih vinarjev.\n Cena sendviča: 10\,90 €\nPridite\, naj se vaš četrtek ftrga! 
URL:https://www.fontanavin.com/event-2/ftrgani-cetrtek-z-vrhunskimi-sendvici-ribe-4/
LOCATION:Fontana vin Vodole\, Vodole 2\, Malečnik\, 2229
ATTACH;FMTTYPE=image/jpeg:https://www.fontanavin.com/wp-content/uploads/2025/06/ftrgan-cetrtek-scaled.jpg
END:VEVENT
BEGIN:VEVENT
DTSTART;TZID=Europe/Ljubljana:20250821T170000
DTEND;TZID=Europe/Ljubljana:20250821T200000
DTSTAMP:20260421T062021
CREATED:20250809T143024Z
LAST-MODIFIED:20250809T201333Z
UID:993197-1755795600-1755806400@www.fontanavin.com
SUMMARY:Vinski večer na Fontani vin – Vino turizem Protner
DESCRIPTION:Vabimo na prav poseben večer na Fontani vin. Z nami bo Denis Protner\, ki bo z veseljem predstavil zgodbe Turistične kmetije Protner in nam ponudil za okusiti čudovita vina in penine iz njihove ponudbe.\nProtner Penina\, Sivi pinot\, Suvignon\, Renski rizling.. vse to so vina s sadnimi in cvetnimi aromami ter osvežujočo kislino\, ki jih skrbno in z ljubeznijo ponujajo v njihovi kleti.\n\nNekaj od njih je pa tudi v naši redni ponudbi na fontani.\n\nPridite na kozarec\, pogovor in prijetno popoldne v družbi vina!
URL:https://www.fontanavin.com/event-2/vinski-vecer-na-fontani-vin-vino-turizem-protner/
LOCATION:Fontana vin Vodole\, Vodole 2\, Malečnik\, 2229
ATTACH;FMTTYPE=image/png:https://www.fontanavin.com/wp-content/uploads/2025/08/protner-naslovna.png
END:VEVENT
BEGIN:VEVENT
DTSTART;TZID=Europe/Ljubljana:20250910T180000
DTEND;TZID=Europe/Ljubljana:20250910T210000
DTSTAMP:20260421T062021
CREATED:20250908T063338Z
LAST-MODIFIED:20250908T073910Z
UID:993506-1757527200-1757538000@www.fontanavin.com
SUMMARY:SUŠI&PENINA - večer z Ano Ranc
DESCRIPTION:SLAVNI “SUŠI&PENINA” VEČER Z ANO RANC PONOVNO V SONČNEM RAJU\n5-hodni suši meni + NEOMEJENA spremljava penine & vina\n+ živa kuhinja z Ano Ranc & welcome drink!\n  \n\n\nČe suši zate ne predstavlja le navadnega kosila\, ampak ga dojemaš kot užitek okusov… \n… hkrati pa iščeš zares edinstveno izkušnjo\, z unikatnimi okusi ter najbolj svežimi sestavinami… \n… in živo kuhinjo z vrhunsko\, svetovno znano suši chefinjo\, kot je Ana Ranc… \nPotem si danes ob pravem času na pravem mestu! \nSuši&Penina večer je premium kulinarični dogodek\, namenjen raziskovanju okusov Japonske kuhinje. \nZate bomo namreč pripravili: \n\n\n\n\n\n 5-hodni avtentični japonski suši meni\, v katerem raziskuješ edinstvene okuse suši kulinarike\n Mojstrska priprava sušija v živi kuhinji (in to sredi neokrnjene narave v Malečniku)\n Dobrodošlica z gratis welcome drinkom (ali ledenim čajem za otroke)\n NEOMEJENA spremljava penine & vina – degustacija 8-ih odličnih vin in penin iz Fontane vin Vodole\n\n\n\n\n\nČe se ti to sliši kot popoln kulinarični večer\, klikni na gumb spodaj in rezerviraj svoje mesto na dogodku: \nREZERVIRAJ SI SVOJO MIZO TUKAJ
URL:https://www.fontanavin.com/event-2/susipenina-vecer-z-ano-ranc-2/
LOCATION:Fontana vin Vodole\, Vodole 2\, Malečnik\, 2229
ATTACH;FMTTYPE=image/png:https://www.fontanavin.com/wp-content/uploads/2025/09/susi.png
END:VEVENT
BEGIN:VEVENT
DTSTART;TZID=Europe/Ljubljana:20250917T180000
DTEND;TZID=Europe/Ljubljana:20250917T210000
DTSTAMP:20260421T062021
CREATED:20250912T135603Z
LAST-MODIFIED:20250912T153535Z
UID:993541-1758132000-1758142800@www.fontanavin.com
SUMMARY:Kulinarični večer - POSTRVI & VINO
DESCRIPTION:Vabljeni na unikaten kulinarični večer\, zasnovan posebej za ljubitelje ribjih specialitet in vrhunskega vina! \nSreda od 18-21 ure! \n“Postrvi & Vino” je doživetje\, kjer se razvajajo vse tvoje čute.V čudovitem ambientu neokrnjene narave te čaka 5-hodni ribji meni\, v katerem glavno vlogo igra kraljica naših voda – postrv.🔥 Pečena\, dimljena\, pražena\, v hladni predjedi\, kot namaz in še marsikaj vmes. \n🧑‍🍳 Priprava jedi poteka pred teboj v živi kuhinji – lahko opazuješ mojstrskega chefa\, ali pa pustiš\, da te preseneti naša znamenita gondola\, ki ti postreže dobrote iz sosednjega hriba. \n🍷 In ker je Sončni Raj tudi dom Fontane vin Vodole\, te ob prihodu pričaka welkome drink kokteil & vinski kozarec za degustacijo.Z njim odkleneš neomejeno pokušino kar 8-ih skrbno izbranih vin – preprosto ga prisloniš na sodček in pustiš\, da te vino najde samo. \nNa dogodek se je potrebno prijaviti na linku:  TUKAJ \n 
URL:https://www.fontanavin.com/event-2/kulinaricni-vecer-postrvi-vino-2/
LOCATION:Fontana vin Vodole\, Vodole 2\, Malečnik\, 2229
ATTACH;FMTTYPE=image/png:https://www.fontanavin.com/wp-content/uploads/2025/09/FB-COVERS-EVENTS-2097-x-1074-pik-1440-x-815-pik.png
END:VEVENT
BEGIN:VEVENT
DTSTART;TZID=Europe/Ljubljana:20250924T180000
DTEND;TZID=Europe/Ljubljana:20250924T210000
DTSTAMP:20260421T062021
CREATED:20250809T133019Z
LAST-MODIFIED:20250923T212813Z
UID:993194-1758736800-1758747600@www.fontanavin.com
SUMMARY:DOGODEK JE PRESTAVLJEN - MORJE & VINO
DESCRIPTION:Gre za unikatno doživetje tvojih brbončic\, kjer te pričaka:\n\n\n\n 5-hodni morski meni\, v katerem raziskuješ različne okuse in načine priprave morske hrane (ribe\, školjke\, lignji in podobno)\n\n\n Živa glasba celoten večer (pristne dalmatinske “klape”)\n\n\n Ogled priprave jedi v živi kuhinji (in to sredi neokrnjene narave v Malečniku)\n\n\n Dobrodošlica z gratis welcome drinkom (ali ledenim čajem za otroke)\n\n\n NEOMEJENA vinska degustacija – 8 odličnih vin iz Fontane vin Vodole\n\n\n\nČe se ti vse to sliši kot popolna popestritev večera\, klikni na gumb spodaj in rezerviraj svojo vstopnico…\n\nPretekli dogodki so bili razprodani\, zato si svoje mesto zagotovi čim prej. \nKlikni TUKAJ!
URL:https://www.fontanavin.com/event-2/morjevino/
LOCATION:Fontana vin Vodole\, Vodole 2\, Malečnik\, 2229
ATTACH;FMTTYPE=image/jpeg:https://www.fontanavin.com/wp-content/uploads/2025/08/DALMATISNKI-VECER.jpg
END:VEVENT
BEGIN:VEVENT
DTSTART;TZID=Europe/Ljubljana:20251001T180000
DTEND;TZID=Europe/Ljubljana:20251001T210000
DTSTAMP:20260421T062021
CREATED:20250923T212701Z
LAST-MODIFIED:20250925T105739Z
UID:993636-1759341600-1759352400@www.fontanavin.com
SUMMARY:DALMATINSKI VEČER
DESCRIPTION:Gre za unikatno doživetje tvojih brbončic\, kjer te pričaka:\n\n\n\n 5-hodni morski meni\, v katerem raziskuješ različne okuse in načine priprave morske hrane (ribe\, školjke\, lignji in podobno)\n\n\n Živa glasba celoten večer (pristne dalmatinske “klape”)\n\n\n Ogled priprave jedi v živi kuhinji (in to sredi neokrnjene narave v Malečniku)\n\n\n Dobrodošlica z gratis welcome drinkom (ali ledenim čajem za otroke)\n\n\n NEOMEJENA vinska degustacija – 8 odličnih vin iz Fontane vin Vodole\n\n\n\nČe se ti vse to sliši kot popolna popestritev večera\, klikni na gumb spodaj in rezerviraj svojo vstopnico…\n\nPretekli dogodki so bili razprodani\, zato si svoje mesto zagotovi čim prej. \nKlikni TUKAJ!
URL:https://www.fontanavin.com/event-2/morje-vino/
LOCATION:Fontana vin Vodole\, Vodole 2\, Malečnik\, 2229
END:VEVENT
BEGIN:VEVENT
DTSTART;TZID=Europe/Ljubljana:20251008T180000
DTEND;TZID=Europe/Ljubljana:20251008T210000
DTSTAMP:20260421T062021
CREATED:20251003T044922Z
LAST-MODIFIED:20251003T193337Z
UID:993814-1759946400-1759957200@www.fontanavin.com
SUMMARY:BRAZISLKI STEAK - KULINARIČNI VEČER Z Marcosom Tavaresom
DESCRIPTION:Gre za unikaten kulinarični dogodek\, namenjen raziskovanju okusov stejka in vina. \nČe obožuješ meso in degustacijo vrhunskih vin – na vrh vsega pa si še iz Maribora ali okolice – ga preprosto ne smeš zamuditi! \n  \n\n\nVključuje: 5-hodni steak meni\, redke premium Brazilske govedine – raziskovanje okusov in načinov priprave \n Druženje z Mariborsko nogometno legendo Marcos Tavaresom – ki bo izžrebanemu gostu podaril darilo presenečenja \n Ogled priprave jedi v živi kuhinji (in to le 5 minut iz centra Maribora) \n Dobrodošlica z gratis welcome drinkom (ali ledenim čajem za otroke) \n NEOMEJENA vinska spremljava – degustacija 8-ih odličnih vin iz Fontane vin Vodole \n\n Dogodek je omejen na 60 oseb! Prijave so obvezne – hitro rezerviraj svoje mesto!\n\nČaka nas res edinstven dogodek\, katerega ne smeš zamuditi!\n\nZato se hitro prijavi TUKAJ!
URL:https://www.fontanavin.com/event-2/brazislki-steak-kulinaricni-vecer-z-marcosom-tavaresom/
LOCATION:Fontana vin Vodole\, Vodole 2\, Malečnik\, 2229
ATTACH;FMTTYPE=image/jpeg:https://www.fontanavin.com/wp-content/uploads/2025/10/brazilski-vecer.jpg
END:VEVENT
BEGIN:VEVENT
DTSTART;TZID=Europe/Ljubljana:20260422T180000
DTEND;TZID=Europe/Ljubljana:20260422T210000
DTSTAMP:20260421T062021
CREATED:20260417T062652Z
LAST-MODIFIED:20260417T062652Z
UID:994831-1776880800-1776891600@www.fontanavin.com
SUMMARY:Steak & Vino
DESCRIPTION:Gre za unikaten kulinarični dogodek\, namenjen raziskovanju okusov stejka in vina. \nČe obožuješ meso in degustacijo vrhunskih vin – na vrh vsega pa si še iz Maribora ali okolice – ga preprosto ne smeš zamuditi! \n  \n\n\nVključuje: \n\n 5-hodni steak meni\, v katerem raziskuješ različne okuse in načine priprave najboljših kosov mesa\n Ogled priprave jedi v živi kuhinji (in to sredi neokrnjene narave v Malečniku)\n Dobrodošlica z gratis welcome drinkom (ali ledenim čajem za otroke)\n NEOMEJENA vinska spremljava – degustacija 8-ih odličnih vin iz Fontane vin Vodole\n\n\n Prijave so obvezne – hitro rezerviraj svoje mesto!\n\nČaka nas res edinstven dogodek\, katerega ne smeš zamuditi!\n\nZato se hitro prijavi TUKAJ!
URL:https://www.fontanavin.com/event-2/steak-vino/
LOCATION:Fontana vin Vodole\, Vodole 2\, Malečnik\, 2229
ATTACH;FMTTYPE=image/png:https://www.fontanavin.com/wp-content/uploads/2025/08/2-Use-Case-65-min.png
END:VEVENT
END:VCALENDAR